BEGIN:VCALENDAR
VERSION:2.0
PRODID:-//Conservatori Professional de Música de Badalona - ECPv6.15.20//NONSGML v1.0//EN
CALSCALE:GREGORIAN
METHOD:PUBLISH
X-WR-CALNAME:Conservatori Professional de Música de Badalona
X-ORIGINAL-URL:https://www.conservatoribdn.cat
X-WR-CALDESC:Esdeveniments per Conservatori Professional de Música de Badalona
REFRESH-INTERVAL;VALUE=DURATION:PT1H
X-Robots-Tag:noindex
X-PUBLISHED-TTL:PT1H
BEGIN:VTIMEZONE
TZID:Europe/Paris
BEGIN:DAYLIGHT
TZOFFSETFROM:+0100
TZOFFSETTO:+0200
TZNAME:CEST
DTSTART:20250330T010000
END:DAYLIGHT
BEGIN:STANDARD
TZOFFSETFROM:+0200
TZOFFSETTO:+0100
TZNAME:CET
DTSTART:20251026T010000
END:STANDARD
BEGIN:DAYLIGHT
TZOFFSETFROM:+0100
TZOFFSETTO:+0200
TZNAME:CEST
DTSTART:20260329T010000
END:DAYLIGHT
BEGIN:STANDARD
TZOFFSETFROM:+0200
TZOFFSETTO:+0100
TZNAME:CET
DTSTART:20261025T010000
END:STANDARD
BEGIN:DAYLIGHT
TZOFFSETFROM:+0100
TZOFFSETTO:+0200
TZNAME:CEST
DTSTART:20270328T010000
END:DAYLIGHT
BEGIN:STANDARD
TZOFFSETFROM:+0200
TZOFFSETTO:+0100
TZNAME:CET
DTSTART:20271031T010000
END:STANDARD
END:VTIMEZONE
BEGIN:VEVENT
DTSTART;TZID=Europe/Paris:20260319T200000
DTEND;TZID=Europe/Paris:20260319T210000
DTSTAMP:20260424T081119
CREATED:20251212T100609Z
LAST-MODIFIED:20260313T100950Z
UID:18809-1773950400-1773954000@www.conservatoribdn.cat
SUMMARY:JA ÉS DIJOUS! Duet la Barona
DESCRIPTION:Duet la Barona\nJaume Parra\, acordeó diatònic\nLluïsa N. Vicent\, viola \nDuet la Barona és un grup format recentment fruit de la motivació per la música tradicional i popular d’arreu\, i que convida a gaudir d’una experiència agradable on de ben segur que ens deixa amb ganes de més. La Lluïsa N. Vicent a la viola i en Jaume Parra a l’acordió diatònic\, proposen una gran varietat musical dins de l’àmbit folk\, que comprèn des de composicions populars arranjades fins a composicions pròpies. \nENTRADA LLIURE
URL:https://www.conservatoribdn.cat/t-ho-perdras/ja-es-dijous-duet-la-barona/
LOCATION:Conservatori de Badalona\, Carrer del Pare Claret\, 2\, Badalona\, Barcelona\, 08911
CATEGORIES:Ja és Dijous
ATTACH;FMTTYPE=image/jpeg:https://www.conservatoribdn.cat/wp-content/uploads/2025/12/IMG_0903-scaled.jpeg
END:VEVENT
END:VCALENDAR