BEGIN:VCALENDAR
VERSION:2.0
PRODID:-//Conservatori Professional de Música de Badalona - ECPv6.15.20//NONSGML v1.0//EN
CALSCALE:GREGORIAN
METHOD:PUBLISH
X-ORIGINAL-URL:https://www.conservatoribdn.cat
X-WR-CALDESC:Esdeveniments per Conservatori Professional de Música de Badalona
REFRESH-INTERVAL;VALUE=DURATION:PT1H
X-Robots-Tag:noindex
X-PUBLISHED-TTL:PT1H
BEGIN:VTIMEZONE
TZID:Europe/Paris
BEGIN:DAYLIGHT
TZOFFSETFROM:+0100
TZOFFSETTO:+0200
TZNAME:CEST
DTSTART:20250330T010000
END:DAYLIGHT
BEGIN:STANDARD
TZOFFSETFROM:+0200
TZOFFSETTO:+0100
TZNAME:CET
DTSTART:20251026T010000
END:STANDARD
BEGIN:DAYLIGHT
TZOFFSETFROM:+0100
TZOFFSETTO:+0200
TZNAME:CEST
DTSTART:20260329T010000
END:DAYLIGHT
BEGIN:STANDARD
TZOFFSETFROM:+0200
TZOFFSETTO:+0100
TZNAME:CET
DTSTART:20261025T010000
END:STANDARD
BEGIN:DAYLIGHT
TZOFFSETFROM:+0100
TZOFFSETTO:+0200
TZNAME:CEST
DTSTART:20270328T010000
END:DAYLIGHT
BEGIN:STANDARD
TZOFFSETFROM:+0200
TZOFFSETTO:+0100
TZNAME:CET
DTSTART:20271031T010000
END:STANDARD
END:VTIMEZONE
BEGIN:VEVENT
DTSTART;VALUE=DATE:20260328
DTEND;VALUE=DATE:20260407
DTSTAMP:20260424T064832
CREATED:20250721T120151Z
LAST-MODIFIED:20250722T081727Z
UID:4196-1774656000-1775519999@www.conservatoribdn.cat
SUMMARY:Vacances de Setmana Santa
DESCRIPTION:
URL:https://www.conservatoribdn.cat/t-ho-perdras/vacances-de-setmana-santa/
LOCATION:Conservatori de Badalona
ATTACH;FMTTYPE=image/jpeg:https://www.conservatoribdn.cat/wp-content/uploads/2018/02/red-piano-cover1.jpg
END:VEVENT
END:VCALENDAR