BEGIN:VCALENDAR
VERSION:2.0
PRODID:-//Conservatori Professional de Música de Badalona - ECPv6.15.20//NONSGML v1.0//EN
CALSCALE:GREGORIAN
METHOD:PUBLISH
X-ORIGINAL-URL:https://www.conservatoribdn.cat
X-WR-CALDESC:Esdeveniments per Conservatori Professional de Música de Badalona
REFRESH-INTERVAL;VALUE=DURATION:PT1H
X-Robots-Tag:noindex
X-PUBLISHED-TTL:PT1H
BEGIN:VTIMEZONE
TZID:Europe/Paris
BEGIN:DAYLIGHT
TZOFFSETFROM:+0100
TZOFFSETTO:+0200
TZNAME:CEST
DTSTART:20250330T010000
END:DAYLIGHT
BEGIN:STANDARD
TZOFFSETFROM:+0200
TZOFFSETTO:+0100
TZNAME:CET
DTSTART:20251026T010000
END:STANDARD
BEGIN:DAYLIGHT
TZOFFSETFROM:+0100
TZOFFSETTO:+0200
TZNAME:CEST
DTSTART:20260329T010000
END:DAYLIGHT
BEGIN:STANDARD
TZOFFSETFROM:+0200
TZOFFSETTO:+0100
TZNAME:CET
DTSTART:20261025T010000
END:STANDARD
BEGIN:DAYLIGHT
TZOFFSETFROM:+0100
TZOFFSETTO:+0200
TZNAME:CEST
DTSTART:20270328T010000
END:DAYLIGHT
BEGIN:STANDARD
TZOFFSETFROM:+0200
TZOFFSETTO:+0100
TZNAME:CET
DTSTART:20271031T010000
END:STANDARD
END:VTIMEZONE
BEGIN:VEVENT
DTSTART;TZID=Europe/Paris:20260416T200000
DTEND;TZID=Europe/Paris:20260416T210000
DTSTAMP:20260419T190419
CREATED:20260325T105132Z
LAST-MODIFIED:20260325T215519Z
UID:19004-1776369600-1776373200@www.conservatoribdn.cat
SUMMARY:JA ÉS DIJOUS!
DESCRIPTION:A.I. Trio – Arc Improvisation\nChristoph Mallinger\, violí de 5 cordes\nJoan Torrentó\, violí\nJon Cottle\, violoncel \nA.I. Trio ens porta temes reconeguts del repertori del jazz i la música moderna en general amb un aire diferent\, creatiu i únic. La formació explora diverses formes d’arranjar la música més enllà del so tradicional d’un trio de corda. \nEl projecte neix com la versió de concert del llibre “A.I. (Arc Improvisation) – A guide to reignite in music”\, un treball dedicat a fomentar la creativitat i la improvisació entre els instrumentistes de corda. Els 3 músics tenen una llarga trajectòria al panorama jazzístic català\, i també destaca la tasca docent que han exercits a diverses universitats\, conservatoris i escoles. \nENTRADA LLIURE
URL:https://www.conservatoribdn.cat/t-ho-perdras/ja-es-dijous-14/
LOCATION:Auditori del Conservatori de Badalona\, Carrer del Pare Claret\, 2\, Badalona\, Barcelona\, 08911
CATEGORIES:Ja és Dijous
ATTACH;FMTTYPE=image/jpeg:https://www.conservatoribdn.cat/wp-content/uploads/2026/03/Copia-de-de-mozart-al-swing-Pere-soto-2-e1775561140539.jpg
END:VEVENT
END:VCALENDAR