BEGIN:VCALENDAR
VERSION:2.0
PRODID:-//Conservatori Professional de Música de Badalona - ECPv6.15.20//NONSGML v1.0//EN
CALSCALE:GREGORIAN
METHOD:PUBLISH
X-ORIGINAL-URL:https://www.conservatoribdn.cat
X-WR-CALDESC:Esdeveniments per Conservatori Professional de Música de Badalona
REFRESH-INTERVAL;VALUE=DURATION:PT1H
X-Robots-Tag:noindex
X-PUBLISHED-TTL:PT1H
BEGIN:VTIMEZONE
TZID:Europe/Paris
BEGIN:DAYLIGHT
TZOFFSETFROM:+0100
TZOFFSETTO:+0200
TZNAME:CEST
DTSTART:20240331T010000
END:DAYLIGHT
BEGIN:STANDARD
TZOFFSETFROM:+0200
TZOFFSETTO:+0100
TZNAME:CET
DTSTART:20241027T010000
END:STANDARD
BEGIN:DAYLIGHT
TZOFFSETFROM:+0100
TZOFFSETTO:+0200
TZNAME:CEST
DTSTART:20250330T010000
END:DAYLIGHT
BEGIN:STANDARD
TZOFFSETFROM:+0200
TZOFFSETTO:+0100
TZNAME:CET
DTSTART:20251026T010000
END:STANDARD
BEGIN:DAYLIGHT
TZOFFSETFROM:+0100
TZOFFSETTO:+0200
TZNAME:CEST
DTSTART:20260329T010000
END:DAYLIGHT
BEGIN:STANDARD
TZOFFSETFROM:+0200
TZOFFSETTO:+0100
TZNAME:CET
DTSTART:20261025T010000
END:STANDARD
END:VTIMEZONE
BEGIN:VEVENT
DTSTART;TZID=Europe/Paris:20251130T180000
DTEND;TZID=Europe/Paris:20251130T203000
DTSTAMP:20260420T035238
CREATED:20251117T090227Z
LAST-MODIFIED:20251118T104211Z
UID:13484-1764525600-1764534600@www.conservatoribdn.cat
SUMMARY:CONCERT DE SANTA CECÍLIA
DESCRIPTION:CONCERT DE SANTA CECÍLIA\nBANDA SIMFÒNICA DE BADALONA\nMiquel Arrué\, director \nAquest 30 de novembre ens espera una cita molt especial al @teatrezorrilla : un concert on no només homenatgem la patrona de la música\, sinó que també compartim amb vosaltres 25 anys de la Banda Simfònica de Badalona.\nSerà una nit única i diferent\, carregada d’energia\, per recordar d’on venim i\, sobretot\, per continuar fent música tal i com ho hem fet sempre. \nPROGRAMA \nUs hi esperem! ? \nRESERVA D’ENTRADES
URL:https://www.conservatoribdn.cat/t-ho-perdras/concert-de-santa-cecilia-2/
LOCATION:Teatre Zorrilla\, Carrer Canonge Baranera 17\, Badalona\, Barcelona\, 08911
CATEGORIES:Esdeveniments destacats,Extern
ATTACH;FMTTYPE=image/jpeg:https://www.conservatoribdn.cat/wp-content/uploads/2022/11/santa-ceciloia-banda.jpg
END:VEVENT
END:VCALENDAR