BEGIN:VCALENDAR
VERSION:2.0
PRODID:-//Conservatori Professional de Música de Badalona - ECPv6.15.20//NONSGML v1.0//EN
CALSCALE:GREGORIAN
METHOD:PUBLISH
X-WR-CALNAME:Conservatori Professional de Música de Badalona
X-ORIGINAL-URL:https://www.conservatoribdn.cat
X-WR-CALDESC:Esdeveniments per Conservatori Professional de Música de Badalona
REFRESH-INTERVAL;VALUE=DURATION:PT1H
X-Robots-Tag:noindex
X-PUBLISHED-TTL:PT1H
BEGIN:VTIMEZONE
TZID:Europe/Paris
BEGIN:DAYLIGHT
TZOFFSETFROM:+0100
TZOFFSETTO:+0200
TZNAME:CEST
DTSTART:20250330T010000
END:DAYLIGHT
BEGIN:STANDARD
TZOFFSETFROM:+0200
TZOFFSETTO:+0100
TZNAME:CET
DTSTART:20251026T010000
END:STANDARD
BEGIN:DAYLIGHT
TZOFFSETFROM:+0100
TZOFFSETTO:+0200
TZNAME:CEST
DTSTART:20260329T010000
END:DAYLIGHT
BEGIN:STANDARD
TZOFFSETFROM:+0200
TZOFFSETTO:+0100
TZNAME:CET
DTSTART:20261025T010000
END:STANDARD
BEGIN:DAYLIGHT
TZOFFSETFROM:+0100
TZOFFSETTO:+0200
TZNAME:CEST
DTSTART:20270328T010000
END:DAYLIGHT
BEGIN:STANDARD
TZOFFSETFROM:+0200
TZOFFSETTO:+0100
TZNAME:CET
DTSTART:20271031T010000
END:STANDARD
END:VTIMEZONE
BEGIN:VEVENT
DTSTART;VALUE=DATE:20260525
DTEND;VALUE=DATE:20260526
DTSTAMP:20260424T093920
CREATED:20250721T114941Z
LAST-MODIFIED:20250722T082351Z
UID:4185-1779667200-1779753599@www.conservatoribdn.cat
SUMMARY:Festiu. Segona Pasqua
DESCRIPTION:
URL:https://www.conservatoribdn.cat/t-ho-perdras/festiu-segona-pasqua/
LOCATION:Conservatori de Badalona
ATTACH;FMTTYPE=image/jpeg:https://www.conservatoribdn.cat/wp-content/uploads/2018/02/red-piano-cover1.jpg
END:VEVENT
BEGIN:VEVENT
DTSTART;TZID=Europe/Paris:20260525T190000
DTEND;TZID=Europe/Paris:20260525T210000
DTSTAMP:20260424T093920
CREATED:20260415T151916Z
LAST-MODIFIED:20260423T235504Z
UID:19052-1779735600-1779742800@www.conservatoribdn.cat
SUMMARY:ÒPERA al Teatre Zorrilla
DESCRIPTION:LUCIA DI LAMMERMOOR\nGaetano Donizietti \nCompanyia Sull’Aria \nMarc Serra\, piano \nRocío Martínez\, directora
URL:https://www.conservatoribdn.cat/t-ho-perdras/opera-al-teatre-zorrilla/
ATTACH;FMTTYPE=image/jpeg:https://www.conservatoribdn.cat/wp-content/uploads/2026/04/Cartell-opera-25-de-maig-1.jpg
END:VEVENT
BEGIN:VEVENT
DTSTART;VALUE=DATE:20260615
DTEND;VALUE=DATE:20260616
DTSTAMP:20260424T093920
CREATED:20250913T084833Z
LAST-MODIFIED:20250930T111152Z
UID:13304-1781481600-1781567999@www.conservatoribdn.cat
SUMMARY:FÍ DE LES CLASSES
DESCRIPTION:
URL:https://www.conservatoribdn.cat/t-ho-perdras/fi-de-les-classes-2/
LOCATION:Conservatori de Badalona\, Carrer del Pare Claret\, 2\, Badalona\, Barcelona\, 08911
ATTACH;FMTTYPE=image/jpeg:https://www.conservatoribdn.cat/wp-content/uploads/2020/08/festa-final-curs-2-2.jpg
END:VEVENT
END:VCALENDAR