BEGIN:VCALENDAR
VERSION:2.0
PRODID:-//Conservatori Professional de Música de Badalona - ECPv6.15.20//NONSGML v1.0//EN
CALSCALE:GREGORIAN
METHOD:PUBLISH
X-ORIGINAL-URL:https://www.conservatoribdn.cat
X-WR-CALDESC:Esdeveniments per Conservatori Professional de Música de Badalona
REFRESH-INTERVAL;VALUE=DURATION:PT1H
X-Robots-Tag:noindex
X-PUBLISHED-TTL:PT1H
BEGIN:VTIMEZONE
TZID:Europe/Paris
BEGIN:DAYLIGHT
TZOFFSETFROM:+0100
TZOFFSETTO:+0200
TZNAME:CEST
DTSTART:20250330T010000
END:DAYLIGHT
BEGIN:STANDARD
TZOFFSETFROM:+0200
TZOFFSETTO:+0100
TZNAME:CET
DTSTART:20251026T010000
END:STANDARD
BEGIN:DAYLIGHT
TZOFFSETFROM:+0100
TZOFFSETTO:+0200
TZNAME:CEST
DTSTART:20260329T010000
END:DAYLIGHT
BEGIN:STANDARD
TZOFFSETFROM:+0200
TZOFFSETTO:+0100
TZNAME:CET
DTSTART:20261025T010000
END:STANDARD
BEGIN:DAYLIGHT
TZOFFSETFROM:+0100
TZOFFSETTO:+0200
TZNAME:CEST
DTSTART:20270328T010000
END:DAYLIGHT
BEGIN:STANDARD
TZOFFSETFROM:+0200
TZOFFSETTO:+0100
TZNAME:CET
DTSTART:20271031T010000
END:STANDARD
END:VTIMEZONE
BEGIN:VTIMEZONE
TZID:UTC
BEGIN:STANDARD
TZOFFSETFROM:+0000
TZOFFSETTO:+0000
TZNAME:UTC
DTSTART:20250101T000000
END:STANDARD
END:VTIMEZONE
BEGIN:VEVENT
DTSTART;TZID=Europe/Paris:20260419T180000
DTEND;TZID=Europe/Paris:20260419T193000
DTSTAMP:20260419T234549
CREATED:20260414T095927Z
LAST-MODIFIED:20260414T095927Z
UID:19040-1776621600-1776627000@www.conservatoribdn.cat
SUMMARY:Concert Orquestra de cambra al Zorrilla
DESCRIPTION:💥CONCERT de l’Orquestra de Cambra del Conservatori de Badalona al TEATRE ZORRILLA\nJoan Antoni Pich\, director\nL’orquestra de cambra del Conservatori ens ofereix aquest any un programa variat en la seva instrumentació i en els estils que hi són representats. Hi veurem des d’un petit conjunt de cambra fins a l’orquestra simfònica i escoltarem tant danses de l’època barroca com música més actual\n📅diumenge 19 d’abril\n⏱️18h\n📌 Teatre Zorrila de Badalona\n🎟️ venda d’entrades 👉www.teatrezorrilla.cat\nNO US HO PERDEU!!!\n@teatrezorrilla #conservatoridebadalona
URL:https://www.conservatoribdn.cat/t-ho-perdras/concert-orquestra-de-cambra-al-zorrilla/
LOCATION:Teatre Zorrilla\, Carrer Canonge Baranera 17\, Badalona\, Barcelona\, 08911
ATTACH;FMTTYPE=image/jpeg:https://www.conservatoribdn.cat/wp-content/uploads/2026/03/sintonies-bona.jpg
END:VEVENT
BEGIN:VEVENT
DTSTART;TZID=Europe/Paris:20260421T170000
DTEND;TZID=Europe/Paris:20260421T180000
DTSTAMP:20260419T234549
CREATED:20260415T145746Z
LAST-MODIFIED:20260415T145746Z
UID:19047-1776790800-1776794400@www.conservatoribdn.cat
SUMMARY:Concert COR GAUDIA
DESCRIPTION:Concert del COR GAUDIA al Centre Sociosanitari El Carme.
URL:https://www.conservatoribdn.cat/t-ho-perdras/concert-cor-gaudia/
LOCATION:Conservatori de Badalona
ATTACH;FMTTYPE=image/png:https://www.conservatoribdn.cat/wp-content/uploads/2023/06/Logo-Cor-Gaudia.png
END:VEVENT
BEGIN:VEVENT
DTSTART;TZID=UTC:20260423T200000
DTEND;TZID=UTC:20260423T210000
DTSTAMP:20260419T234549
CREATED:20260324T100626Z
LAST-MODIFIED:20260416T175827Z
UID:14239-1776974400-1776978000@www.conservatoribdn.cat
SUMMARY:JA ÉS DIJOUS! SANT JORDI PARTICIPATIU
DESCRIPTION:SANT JORDI PARTICIPATIU\nConcert Participatiu amb alumnes i amics del Conservatori i lectura de poemes. \nDe 19:30h a 20h us convidem a confeccionar la vostra pròpia rosa de Sant Jordi \nJoan Sallas\, plegador \nRecull de poemes \nENTRADA LLIURE
URL:https://www.conservatoribdn.cat/t-ho-perdras/ja-es-dijous-sant-jordi-poetic/
LOCATION:Auditori del Conservatori de Badalona\, Carrer del Pare Claret\, 2\, Badalona\, Barcelona\, 08911
CATEGORIES:Ja és Dijous
ATTACH;FMTTYPE=image/jpeg:https://www.conservatoribdn.cat/wp-content/uploads/2026/04/Copia-de-rosa-sant-jordi.jpg
END:VEVENT
BEGIN:VEVENT
DTSTART;VALUE=DATE:20260501
DTEND;VALUE=DATE:20260502
DTSTAMP:20260419T234549
CREATED:20250721T120332Z
LAST-MODIFIED:20250722T082631Z
UID:4198-1777593600-1777679999@www.conservatoribdn.cat
SUMMARY:Festa del treball
DESCRIPTION:
URL:https://www.conservatoribdn.cat/t-ho-perdras/festiu-1-de-maig-2/
LOCATION:Conservatori de Badalona\, Carrer del Pare Claret\, 2\, Badalona\, Barcelona\, 08911
ATTACH;FMTTYPE=image/jpeg:https://www.conservatoribdn.cat/wp-content/uploads/2018/02/red-piano-cover1.jpg
END:VEVENT
BEGIN:VEVENT
DTSTART;VALUE=DATE:20260502
DTEND;VALUE=DATE:20260503
DTSTAMP:20260419T234549
CREATED:20250930T090520Z
LAST-MODIFIED:20250930T090644Z
UID:18601-1777680000-1777766399@www.conservatoribdn.cat
SUMMARY:Dissabte festiu
DESCRIPTION:
URL:https://www.conservatoribdn.cat/t-ho-perdras/dissabte-festiu-3/
LOCATION:Auditori del Conservatori de Badalona\, Carrer del Pare Claret\, 2\, Badalona\, Barcelona\, 08911
ATTACH;FMTTYPE=image/jpeg:https://www.conservatoribdn.cat/wp-content/uploads/2020/01/Festiu.jpg
END:VEVENT
BEGIN:VEVENT
DTSTART;TZID=Europe/Paris:20260507T180000
DTEND;TZID=Europe/Paris:20260507T190000
DTSTAMP:20260419T234549
CREATED:20260325T180027Z
LAST-MODIFIED:20260325T180201Z
UID:19011-1778176800-1778180400@www.conservatoribdn.cat
SUMMARY:JA ÉS DIJOUS! Concert homenatge: Montserrat Torrent 100 anys
DESCRIPTION:Concert homenatge: Montserrat Torrent 100 anys\nAula d’orgue del Conservatori \na les 18H A L’ESGLÉSIA DE SANTA MARIA \nENTRADA LLIURE
URL:https://www.conservatoribdn.cat/t-ho-perdras/ja-es-dijous-concert-homenatge-montserrat-torrent-100-anys/
LOCATION:Esglèsia de Santa Maria de Badalona
CATEGORIES:Ja és Dijous
ATTACH;FMTTYPE=image/jpeg:https://www.conservatoribdn.cat/wp-content/uploads/2026/03/montserrat-torrent.jpg
END:VEVENT
BEGIN:VEVENT
DTSTART;VALUE=DATE:20260511
DTEND;VALUE=DATE:20260512
DTSTAMP:20260419T234549
CREATED:20250721T113904Z
LAST-MODIFIED:20250722T082241Z
UID:4174-1778457600-1778543999@www.conservatoribdn.cat
SUMMARY:Sant Anastasi\, festa local
DESCRIPTION:
URL:https://www.conservatoribdn.cat/t-ho-perdras/sant-anastasi-festa-local/
LOCATION:Conservatori de Badalona
ATTACH;FMTTYPE=image/jpeg:https://www.conservatoribdn.cat/wp-content/uploads/2018/02/red-piano-cover1.jpg
END:VEVENT
BEGIN:VEVENT
DTSTART;TZID=Europe/Paris:20260513T200000
DTEND;TZID=Europe/Paris:20260513T210000
DTSTAMP:20260419T234549
CREATED:20260415T150319Z
LAST-MODIFIED:20260415T150319Z
UID:19049-1778702400-1778706000@www.conservatoribdn.cat
SUMMARY:Cor Jove a l'Església de Santa Maria
DESCRIPTION:Concert del COR JOVE a l’Església Santa Maria
URL:https://www.conservatoribdn.cat/t-ho-perdras/cor-jove-a-lesglesia-de-santa-maria/
LOCATION:Esglèsia de Santa Maria de Badalona
ATTACH;FMTTYPE=image/jpeg:https://www.conservatoribdn.cat/wp-content/uploads/2017/12/Cor_joveB.jpg
END:VEVENT
BEGIN:VEVENT
DTSTART;TZID=Europe/Paris:20260514T200000
DTEND;TZID=Europe/Paris:20260514T210000
DTSTAMP:20260419T234549
CREATED:20260324T093651Z
LAST-MODIFIED:20260325T105658Z
UID:15675-1778788800-1778792400@www.conservatoribdn.cat
SUMMARY:JA ÉS DIJOUS! Premi d'honor 2026
DESCRIPTION:CONCERT PREMI D’HONOR\nEntrada lliure
URL:https://www.conservatoribdn.cat/t-ho-perdras/ja-es-dijous-premi-dhonor-2023/
LOCATION:Auditori del Conservatori de Badalona\, Carrer del Pare Claret\, 2\, Badalona\, Barcelona\, 08911
CATEGORIES:Ja és Dijous
ATTACH;FMTTYPE=image/png:https://www.conservatoribdn.cat/wp-content/uploads/2022/11/Logo_conserv._curt__2_-removebg-preview.png
END:VEVENT
BEGIN:VEVENT
DTSTART;TZID=Europe/Paris:20260515T200000
DTEND;TZID=Europe/Paris:20260515T210000
DTSTAMP:20260419T234549
CREATED:20260402T093828Z
LAST-MODIFIED:20260415T151211Z
UID:12167-1778875200-1778878800@www.conservatoribdn.cat
SUMMARY:CONCERTS dels GRUPS de VENT I\, II i Consort de flautes AL ZORRILLA!!!
DESCRIPTION:Concert del GRUP DE VENT I\, GRUP DE VENT II I CONSORT DE FLAUTES DEL CONSERVATORI
URL:https://www.conservatoribdn.cat/t-ho-perdras/concert-presencial-al-zorrilla/
LOCATION:Teatre Zorrilla\, Carrer Canonge Baranera 17\, Badalona\, Barcelona\, 08911
ATTACH;FMTTYPE=image/jpeg:https://www.conservatoribdn.cat/wp-content/uploads/2017/12/04-A3-4_800.jpg
END:VEVENT
BEGIN:VEVENT
DTSTART;VALUE=DATE:20260525
DTEND;VALUE=DATE:20260526
DTSTAMP:20260419T234549
CREATED:20250721T114941Z
LAST-MODIFIED:20250722T082351Z
UID:4185-1779667200-1779753599@www.conservatoribdn.cat
SUMMARY:Festiu. Segona Pasqua
DESCRIPTION:
URL:https://www.conservatoribdn.cat/t-ho-perdras/festiu-segona-pasqua/
LOCATION:Conservatori de Badalona
ATTACH;FMTTYPE=image/jpeg:https://www.conservatoribdn.cat/wp-content/uploads/2018/02/red-piano-cover1.jpg
END:VEVENT
BEGIN:VEVENT
DTSTART;TZID=Europe/Paris:20260525T190000
DTEND;TZID=Europe/Paris:20260525T210000
DTSTAMP:20260419T234549
CREATED:20260415T151916Z
LAST-MODIFIED:20260415T151916Z
UID:19052-1779735600-1779742800@www.conservatoribdn.cat
SUMMARY:ÒPERA al Teatre Zorrilla
DESCRIPTION:ÒPERA al TEATRE ZORRILLA \nLUCIA DI LAMMERMOOR\nGaetano Donizietti \nCompanyia Sull’Aria
URL:https://www.conservatoribdn.cat/t-ho-perdras/opera-al-teatre-zorrilla/
ATTACH;FMTTYPE=image/jpeg:https://www.conservatoribdn.cat/wp-content/uploads/2026/04/Lucia-cartel-2026.jpg
END:VEVENT
BEGIN:VEVENT
DTSTART;VALUE=DATE:20260615
DTEND;VALUE=DATE:20260616
DTSTAMP:20260419T234549
CREATED:20250913T084833Z
LAST-MODIFIED:20250930T111152Z
UID:13304-1781481600-1781567999@www.conservatoribdn.cat
SUMMARY:FÍ DE LES CLASSES
DESCRIPTION:
URL:https://www.conservatoribdn.cat/t-ho-perdras/fi-de-les-classes-2/
LOCATION:Conservatori de Badalona\, Carrer del Pare Claret\, 2\, Badalona\, Barcelona\, 08911
ATTACH;FMTTYPE=image/jpeg:https://www.conservatoribdn.cat/wp-content/uploads/2020/08/festa-final-curs-2-2.jpg
END:VEVENT
END:VCALENDAR