BEGIN:VCALENDAR
VERSION:2.0
PRODID:-//Conservatori Professional de Música de Badalona - ECPv6.15.20//NONSGML v1.0//EN
CALSCALE:GREGORIAN
METHOD:PUBLISH
X-WR-CALNAME:Conservatori Professional de Música de Badalona
X-ORIGINAL-URL:https://www.conservatoribdn.cat
X-WR-CALDESC:Esdeveniments per Conservatori Professional de Música de Badalona
REFRESH-INTERVAL;VALUE=DURATION:PT1H
X-Robots-Tag:noindex
X-PUBLISHED-TTL:PT1H
BEGIN:VTIMEZONE
TZID:Europe/Paris
BEGIN:DAYLIGHT
TZOFFSETFROM:+0100
TZOFFSETTO:+0200
TZNAME:CEST
DTSTART:20240331T010000
END:DAYLIGHT
BEGIN:STANDARD
TZOFFSETFROM:+0200
TZOFFSETTO:+0100
TZNAME:CET
DTSTART:20241027T010000
END:STANDARD
BEGIN:DAYLIGHT
TZOFFSETFROM:+0100
TZOFFSETTO:+0200
TZNAME:CEST
DTSTART:20250330T010000
END:DAYLIGHT
BEGIN:STANDARD
TZOFFSETFROM:+0200
TZOFFSETTO:+0100
TZNAME:CET
DTSTART:20251026T010000
END:STANDARD
BEGIN:DAYLIGHT
TZOFFSETFROM:+0100
TZOFFSETTO:+0200
TZNAME:CEST
DTSTART:20260329T010000
END:DAYLIGHT
BEGIN:STANDARD
TZOFFSETFROM:+0200
TZOFFSETTO:+0100
TZNAME:CET
DTSTART:20261025T010000
END:STANDARD
BEGIN:DAYLIGHT
TZOFFSETFROM:+0100
TZOFFSETTO:+0200
TZNAME:CEST
DTSTART:20270328T010000
END:DAYLIGHT
BEGIN:STANDARD
TZOFFSETFROM:+0200
TZOFFSETTO:+0100
TZNAME:CET
DTSTART:20271031T010000
END:STANDARD
END:VTIMEZONE
BEGIN:VTIMEZONE
TZID:UTC
BEGIN:STANDARD
TZOFFSETFROM:+0000
TZOFFSETTO:+0000
TZNAME:UTC
DTSTART:20240101T000000
END:STANDARD
END:VTIMEZONE
BEGIN:VEVENT
DTSTART;VALUE=DATE:20260214
DTEND;VALUE=DATE:20260215
DTSTAMP:20260424T093809
CREATED:20250930T090434Z
LAST-MODIFIED:20250930T090434Z
UID:18599-1771027200-1771113599@www.conservatoribdn.cat
SUMMARY:Dissabte festiu
DESCRIPTION:
URL:https://www.conservatoribdn.cat/t-ho-perdras/dissabte-festiu-2/
LOCATION:Auditori del Conservatori de Badalona\, Carrer del Pare Claret\, 2\, Badalona\, Barcelona\, 08911
ATTACH;FMTTYPE=image/jpeg:https://www.conservatoribdn.cat/wp-content/uploads/2020/01/Festiu.jpg
END:VEVENT
BEGIN:VEVENT
DTSTART;VALUE=DATE:20260213
DTEND;VALUE=DATE:20260214
DTSTAMP:20260424T093809
CREATED:20250720T074530Z
LAST-MODIFIED:20250722T081537Z
UID:13156-1770940800-1771027199@www.conservatoribdn.cat
SUMMARY:Festa de lliure disposició
DESCRIPTION:
URL:https://www.conservatoribdn.cat/t-ho-perdras/festa-de-lliure-disposicio-7/
LOCATION:Conservatori de Badalona
ATTACH;FMTTYPE=image/jpeg:https://www.conservatoribdn.cat/wp-content/uploads/2020/01/Festiu.jpg
END:VEVENT
BEGIN:VEVENT
DTSTART;VALUE=DATE:20251220
DTEND;VALUE=DATE:20251221
DTSTAMP:20260424T093809
CREATED:20250930T090329Z
LAST-MODIFIED:20250930T090329Z
UID:18597-1766188800-1766275199@www.conservatoribdn.cat
SUMMARY:Dissabte festiu
DESCRIPTION:
URL:https://www.conservatoribdn.cat/t-ho-perdras/dissabte-festiu/
LOCATION:Auditori del Conservatori de Badalona\, Carrer del Pare Claret\, 2\, Badalona\, Barcelona\, 08911
ATTACH;FMTTYPE=image/jpeg:https://www.conservatoribdn.cat/wp-content/uploads/2020/01/Festiu.jpg
END:VEVENT
BEGIN:VEVENT
DTSTART;VALUE=DATE:20251220
DTEND;VALUE=DATE:20260108
DTSTAMP:20260424T093809
CREATED:20250720T114928Z
LAST-MODIFIED:20250722T080931Z
UID:5731-1766188800-1767830399@www.conservatoribdn.cat
SUMMARY:Vacances de Nadal
DESCRIPTION:El Conservatori estarà tancat del 20 de desembre al 7 de gener\, ambdós inclosos per vacances de Nadal.
URL:https://www.conservatoribdn.cat/t-ho-perdras/vacances-de-nadal-2/
LOCATION:Conservatori de Badalona
ATTACH;FMTTYPE=image/jpeg:https://www.conservatoribdn.cat/wp-content/uploads/2018/02/red-piano-cover1.jpg
END:VEVENT
BEGIN:VEVENT
DTSTART;TZID=Europe/Paris:20251211T200000
DTEND;TZID=Europe/Paris:20251211T210000
DTSTAMP:20260424T093809
CREATED:20251008T145945Z
LAST-MODIFIED:20251127T213408Z
UID:18670-1765483200-1765486800@www.conservatoribdn.cat
SUMMARY:JA ÉS DIJOUS! Guzheng i poesia
DESCRIPTION:Guzheng i poesia\nJianfen Ye 叶建芬\, poetessa\nLìsen Huáng  黄丽森\, guzheng \nInstrument amb més de 2.500 anys d’història\, el guzheng ens convida a un viatge sonor a través del temps. En aquesta actuació s’interpretaran algunes de les melodies més tradicionals del repertori\, acompanyades d’una recitació poètica que dialoga amb el guzheng. Sigui en temps antics o moderns\, deixem que la música i la poesia parlin per si mateixes. \n古筝，这一拥有两千五百多年历史的乐器，邀请我们踏上一段跨越时空的音乐之旅。\n本场演出将演奏多首古筝传统曲目，并配以诗歌朗诵，让诗与筝声相互呼应。\n无论是古代还是现代，就让音乐与诗歌自己诉说心声吧 \nENTRADA LLIURE
URL:https://www.conservatoribdn.cat/t-ho-perdras/ja-es-dijous-guzheng-i-poesia/
LOCATION:Auditori del Conservatori de Badalona\, Carrer del Pare Claret\, 2\, Badalona\, Barcelona\, 08911
CATEGORIES:Ja és Dijous
ATTACH;FMTTYPE=image/jpeg:https://www.conservatoribdn.cat/wp-content/uploads/2025/10/LISEN-Y-JIANFENG-e1760305004549.jpg
END:VEVENT
BEGIN:VEVENT
DTSTART;TZID=Europe/Paris:20251210T200000
DTEND;TZID=Europe/Paris:20251210T210000
DTSTAMP:20260424T093809
CREATED:20251118T110207Z
LAST-MODIFIED:20251119T172209Z
UID:17816-1765396800-1765400400@www.conservatoribdn.cat
SUMMARY:NADAL AL DECUMANUS
DESCRIPTION:Nova edició del tradicional concert de Nadal del Museu i el Conservatori Professional de Música de Badalona que enguany anirà a càrrec del Cor Jove i el quintet de corda del Conservatori.\nVeniu a compartir amb nosaltres l’esperit del Nadal en el marc incomparable de la ciutat romana de Baetulo.\nPreu de l’entrada: 5\,93 € per persona. \nEntrades limitades. Aforament limitat. \nPrograma: \nTres motets Op 39 F. Mendelssohn \n                     Veni Domine\n                     Laudate pueri\n                     Surrexit pastor bonus \nNutcracker jingles. P.I. Tchaikovsky/J. Pierpoint\nAway in a manger J. Spilman/ S. Porterfield\nCarol of the bells M. Loentovych\nThe first Noel. D. Forrest\nMary did you know? M. Lowry/ B. Greene\nSilent night F. Grüber/ D. Forrest\nCançons de Nadal (El dimoni escuat; El noi de la mare; La pastora Caterina; El desembre congelat; Ballades a la cova; El rabadà Arr. J. DomenechSilent night. F. Grüber / D. Forrest
URL:https://www.conservatoribdn.cat/t-ho-perdras/nadal-al-decumanus-3/
LOCATION:Museu de Badalona
ATTACH;FMTTYPE=image/jpeg:https://www.conservatoribdn.cat/wp-content/uploads/2024/11/WhatsApp-Image-2024-11-15-at-20.06.59.jpeg
END:VEVENT
BEGIN:VEVENT
DTSTART;VALUE=DATE:20251208
DTEND;VALUE=DATE:20251209
DTSTAMP:20260424T093809
CREATED:20250720T084448Z
LAST-MODIFIED:20250722T080437Z
UID:13147-1765152000-1765238399@www.conservatoribdn.cat
SUMMARY:Festa de la Immaculada Concepció
DESCRIPTION:
URL:https://www.conservatoribdn.cat/t-ho-perdras/festa-de-la-immaculada-concepcio/
LOCATION:Conservatori de Badalona
ATTACH;FMTTYPE=image/jpeg:https://www.conservatoribdn.cat/wp-content/uploads/2018/02/red-piano-cover1.jpg
END:VEVENT
BEGIN:VEVENT
DTSTART;VALUE=DATE:20251206
DTEND;VALUE=DATE:20251207
DTSTAMP:20260424T093809
CREATED:20250929T102819Z
LAST-MODIFIED:20250930T090059Z
UID:5452-1764979200-1765065599@www.conservatoribdn.cat
SUMMARY:Dissabte festiu
DESCRIPTION:
URL:https://www.conservatoribdn.cat/t-ho-perdras/festiu-2/
LOCATION:Barcelona
ATTACH;FMTTYPE=image/jpeg:https://www.conservatoribdn.cat/wp-content/uploads/2018/02/red-piano-cover1.jpg
END:VEVENT
BEGIN:VEVENT
DTSTART;VALUE=DATE:20251205
DTEND;VALUE=DATE:20251206
DTSTAMP:20260424T093809
CREATED:20250707T083531Z
LAST-MODIFIED:20250722T080238Z
UID:13145-1764892800-1764979199@www.conservatoribdn.cat
SUMMARY:Festa de lliure disposició
DESCRIPTION:
URL:https://www.conservatoribdn.cat/t-ho-perdras/festa-de-lliure-disposicio-6/
LOCATION:Conservatori de Badalona
ATTACH;FMTTYPE=image/jpeg:https://www.conservatoribdn.cat/wp-content/uploads/2018/02/red-piano-cover1.jpg
END:VEVENT
BEGIN:VEVENT
DTSTART;TZID=Europe/Paris:20251204T200000
DTEND;TZID=Europe/Paris:20251204T210000
DTSTAMP:20260424T093809
CREATED:20251007T105527Z
LAST-MODIFIED:20251014T115239Z
UID:18644-1764878400-1764882000@www.conservatoribdn.cat
SUMMARY:JA ÉS DIJOUS! La llum del barroc
DESCRIPTION:LA LLUM DEL BARROC\nAdriana Alcaide\, violí barroc\nBruno Hurtado\, viola de gamba \n \nH.I.F. von Biber\, J.Schmelzer\, F. Couperin i J.S. Bach \nLa Llum del Barroc us ofereix un trajecte pels diferents paisatges de l’època daurada de la música amb dos dels instruments més representatius d’aquest període\, el violí i la viola de gamba. Podreu gaudir del virtuosisme i creativitat alemanyes\, el refinament i la bellesa franceses\, així com del mestratge indescriptible de J.S. Bach\, el màxim exponent del Barroc. \nBach Collegium Barcelona \nFundat per Pau Jorquera (director) i Adriana Alcaide (concertino)\, Bach Collegium Barcelona és un grup especialitzat en la interpretació de la música antiga\, instrumentalment flexible segons els programes que interpreta. Ha estat grup convidat en diverses ocasions per la Bach Fest de Leipzig i ofereix nombrosos concerts a l’Auditori de Barcelona\, al Palau de la Música Catalana\, a l’Abadia de Montserrat i a l’Auditori Enric Granados de Lleida\, entre molts d’altres. En aquesta ocasió podreu escoltar en Bruno i l’Adriana\, que han fet concerts per tota Europa\, Àsia i Amèrica\, en auditoris com el Carnegie Hall (New York)\, Les Champs-Élysées (Paris)\, Wigmore Hall (London)\, Concertgebouw (Amsterdam)\, enregistrant també per a segells discogràfics de renom internacional. \nENTRADA LLIURE
URL:https://www.conservatoribdn.cat/t-ho-perdras/ja-es-dijous-la-llum-del-barroc/
LOCATION:Auditori del Conservatori de Badalona\, Carrer del Pare Claret\, 2\, Badalona\, Barcelona\, 08911
CATEGORIES:Ja és Dijous
ATTACH;FMTTYPE=image/jpeg:https://www.conservatoribdn.cat/wp-content/uploads/2025/10/Copia-de-Copia-de-ja-es-dijous-semi-premi-dhonor-celo-i-veu-25-×-20-cm-e1759834506262.jpg
END:VEVENT
BEGIN:VEVENT
DTSTART;TZID=Europe/Paris:20251130T180000
DTEND;TZID=Europe/Paris:20251130T203000
DTSTAMP:20260424T093809
CREATED:20251117T090227Z
LAST-MODIFIED:20251118T104211Z
UID:13484-1764525600-1764534600@www.conservatoribdn.cat
SUMMARY:CONCERT DE SANTA CECÍLIA
DESCRIPTION:CONCERT DE SANTA CECÍLIA\nBANDA SIMFÒNICA DE BADALONA\nMiquel Arrué\, director \nAquest 30 de novembre ens espera una cita molt especial al @teatrezorrilla : un concert on no només homenatgem la patrona de la música\, sinó que també compartim amb vosaltres 25 anys de la Banda Simfònica de Badalona.\nSerà una nit única i diferent\, carregada d’energia\, per recordar d’on venim i\, sobretot\, per continuar fent música tal i com ho hem fet sempre. \nPROGRAMA \nUs hi esperem! ? \nRESERVA D’ENTRADES
URL:https://www.conservatoribdn.cat/t-ho-perdras/concert-de-santa-cecilia-2/
LOCATION:Teatre Zorrilla\, Carrer Canonge Baranera 17\, Badalona\, Barcelona\, 08911
CATEGORIES:Esdeveniments destacats,Extern
ATTACH;FMTTYPE=image/jpeg:https://www.conservatoribdn.cat/wp-content/uploads/2022/11/santa-ceciloia-banda.jpg
END:VEVENT
BEGIN:VEVENT
DTSTART;TZID=Europe/Paris:20251127T200000
DTEND;TZID=Europe/Paris:20251127T210000
DTSTAMP:20260424T093809
CREATED:20251008T143233Z
LAST-MODIFIED:20251014T084411Z
UID:18659-1764273600-1764277200@www.conservatoribdn.cat
SUMMARY:JA ÉS DIJOUS! LA VEU DE CONXITA BADIA
DESCRIPTION:La veu de la Conxita Badia: soprano\, pianista i compositora\nMontserrat Bonet i Agustí\, conferenciant \nEscoltarem la veu de Conxita Badia (Barcelona 1887-1975)\, la gran liederista del segle XX\, vista a través dels músics\, compositors i crítics musicals que la conegueren. Els exemples musicals son extrets del Fons CB depositat per la familia a la Biblioteca Nacional de Catalnya\, ara digitalitzats. \nENTRADA LLIURE
URL:https://www.conservatoribdn.cat/t-ho-perdras/ja-es-dijous-conxita-badia-soprano-pianista-i-compositora/
LOCATION:Auditori del Conservatori de Badalona\, Carrer del Pare Claret\, 2\, Badalona\, Barcelona\, 08911
CATEGORIES:Ja és Dijous
ATTACH;FMTTYPE=image/jpeg:https://www.conservatoribdn.cat/wp-content/uploads/2025/10/any-conxita-badia-h-alta-resolucio-scaled.jpg
END:VEVENT
BEGIN:VEVENT
DTSTART;TZID=Europe/Paris:20251120T200000
DTEND;TZID=Europe/Paris:20251120T210000
DTSTAMP:20260424T093809
CREATED:20251008T144416Z
LAST-MODIFIED:20251030T180229Z
UID:18665-1763668800-1763672400@www.conservatoribdn.cat
SUMMARY:JA ÉS DIJOUS! Dolce tormento... ma basta!
DESCRIPTION:Dolce tormento… ma basta!\nMarcel Jorquera Vinyals\, contratenor\nFerran Pisa\, tiorba  \nObres de Claudio Monteverdi\, Giovanni G. Kapsberger\, John Dowland i Robert Johnson \nAquest concert de música vocal del s.XVII explora el tòpic més recurrent en les peces barroques: la desil·lusió amorosa. Les obres escollides reflecteixen tota la gamma d’emocions d’aquell moment: la tristesa i el desengany\, però també l’esperança i les contradiccions que acompanyen l’amor. El diàleg entre la veu i la tiorba ens deixa veure de prop com aquest repertori combina la intimitat i l’expressivitat. \nENTRADA LLIURE
URL:https://www.conservatoribdn.cat/t-ho-perdras/ja-es-dijous-dolce-tormento-ma-basta/
LOCATION:Auditori del Conservatori de Badalona\, Carrer del Pare Claret\, 2\, Badalona\, Barcelona\, 08911
CATEGORIES:Ja és Dijous
ATTACH;FMTTYPE=image/jpeg:https://www.conservatoribdn.cat/wp-content/uploads/2025/10/pisa-bona-e1762799716957.jpg
END:VEVENT
BEGIN:VEVENT
DTSTART;TZID=Europe/Paris:20251113T200000
DTEND;TZID=Europe/Paris:20251113T210000
DTSTAMP:20260424T093809
CREATED:20251007T110559Z
LAST-MODIFIED:20251112T164630Z
UID:18647-1763064000-1763067600@www.conservatoribdn.cat
SUMMARY:JA ÉS DIJOUS! QUARTET NERINA Emergents 2025
DESCRIPTION:QUARTET NERINA Emergents 2025\nSusana Gargallo Navarro\, piano\nIker Ortega Salazar\, violí\nEva Martínez Pardos\, viola\nGabriel Serrano Useche\, violoncel \nEl Quartet Nerina\, proposa un recorregut per la literatura musical que s’estén des de la figura de Gabriel Fauré\, fins a la música rítmica i contrastant de Julián Bautista\, influïda per elements propis del tango i el quartet de Joaquín Turina. \nPrograma: \n1r Moviment del Quartet amb piano en Mib major\, Op. 47 de Schumann \n1r Moviment de la “Seconda sonata concertata à quattro”\, Op. 15 de Julián Bautista \nQuartet amb Piano en La menor\, Op. 67 de Turina \nBiografia: \nEl quartet Nerina neix el setembre de 2024 en el Conservatori de Liceu\, amb el mecenatge de la beca quadriennal atorgada per la Fundació Ferrer-Salat. Sota la tutela d’Amparo Lacruz Zorita\, el quartet ha obtingut diversos guardons\, entre els quals destaquen el segon premi en la categoria superior de la XIX edició del concurs “Higini Anglès”\, així com els premis “Neteges Salgado” i “Premi Europeu Fundació SGAE”\, rebuts en la LXVII edició de Música en Compostela.\nGràcies a aquest últim reconeixement\, el quartet tindrà l’oportunitat de fer concerts en el Princess Alexandra Hall de Londres i l’Institut Cervantes de París. A més\, han participat en actes com la Cerimònia de la XVI Edició de Beques Ferrer-Salat o la III Edició de “Nit de la música” en el paranimf de la Universitat de Barcelona . Així mateix\, han format part dels cicles “Amics de la Música de Gavà”\, “Concerts al Terrat del Vent” de Reus i “Clàssica i altres veus” del Centre Cívic Fort Pienc. Finalment\, cal destacar les masterclass realitzades amb els mestres Michal Rot i Ashan Pillai. \nENTRADA LLIURE
URL:https://www.conservatoribdn.cat/t-ho-perdras/ja-es-dijous-quartet-nerina-emergents-2026/
LOCATION:Auditori del Conservatori de Badalona\, Carrer del Pare Claret\, 2\, Badalona\, Barcelona\, 08911
CATEGORIES:Ja és Dijous
ATTACH;FMTTYPE=image/jpeg:https://www.conservatoribdn.cat/wp-content/uploads/2025/10/31e3d3ea-fbba-4ef3-b374-aa6ec2414de7-e1759952828369.jpg
END:VEVENT
BEGIN:VEVENT
DTSTART;TZID=Europe/Paris:20251106T200000
DTEND;TZID=Europe/Paris:20251106T210000
DTSTAMP:20260424T093809
CREATED:20251007T110930Z
LAST-MODIFIED:20251007T115458Z
UID:18651-1762459200-1762462800@www.conservatoribdn.cat
SUMMARY:JA ÉS DIJOUS! TOMBANT DUO
DESCRIPTION:TOMBANT DUO\nMariona Llobera\, veu\nMaria Camahort\, guitarra \nTombant Duo celebra l’essència de la música clàssica i tradicional\, oferint una vetllada musical marcada per la bellesa i la tragèdia\, però també l’ironia i l’humor. Recorrent diversos estils i períodes de la música\, des del S.XVII fins als nostres dies\, el diàleg entre la veu i la guitarra ens portarà a un viatge sonor a través d’atractives melodies\, ritmes marcats i fascinants relats. Amb l’elegància del cant clàssic i la calidesa de la guitarra tradicional\, Tombant Duo ofereix una experiència musical que uneix tècnica i emoció a cada acord i cada nota. Deixeu-vos envoltar per la màgia d’aquesta trobada musical\, on la tradició i la novedat s’uneixen en un mateix projecte. \nENTRADA LLIURE
URL:https://www.conservatoribdn.cat/t-ho-perdras/ja-es-dijous-tombant-duo/
LOCATION:Auditori del Conservatori de Badalona\, Carrer del Pare Claret\, 2\, Badalona\, Barcelona\, 08911
CATEGORIES:Extern,Ja és Dijous
ATTACH;FMTTYPE=image/bmp:https://www.conservatoribdn.cat/wp-content/uploads/2025/10/tombant-duo.bmp
END:VEVENT
BEGIN:VEVENT
DTSTART;TZID=Europe/Paris:20251105T200000
DTEND;TZID=Europe/Paris:20251105T210000
DTSTAMP:20260424T093809
CREATED:20251006T115138Z
LAST-MODIFIED:20251030T160937Z
UID:16567-1762372800-1762376400@www.conservatoribdn.cat
SUMMARY:INAUGURACIÓ ACADÈMICA  curs 25-26
DESCRIPTION:CONCERT D’INAUGURACIÓ ACADÈMICA \n curs 25-26 \nConcert d’Inauguració Acadèmica del Conservatori de Badalona curs 25-26 al Teatre Zorrilla. L’acte tindrà un format molt variat\, amb intervencions de professors i alumnes del Conservatori. \nPROGRAMA \nDimecres 5 de novembre a les 20h al TEATRE ZORRILLA
URL:https://www.conservatoribdn.cat/t-ho-perdras/inauguracio-academica-curs-23-24/
LOCATION:Teatre Zorrilla\, Carrer Canonge Baranera 17\, Badalona\, Barcelona\, 08911
ATTACH;FMTTYPE=image/jpeg:https://www.conservatoribdn.cat/wp-content/uploads/2025/10/zoriilla-1.jpeg
END:VEVENT
BEGIN:VEVENT
DTSTART;VALUE=DATE:20251103
DTEND;VALUE=DATE:20251104
DTSTAMP:20260424T093809
CREATED:20250705T111415Z
LAST-MODIFIED:20250722T075906Z
UID:16320-1762128000-1762214399@www.conservatoribdn.cat
SUMMARY:Festa de lliure disposició
DESCRIPTION:
URL:https://www.conservatoribdn.cat/t-ho-perdras/festa-de-lliure-disposicio-10/
LOCATION:Conservatori de Badalona
ATTACH;FMTTYPE=image/jpeg:https://www.conservatoribdn.cat/wp-content/uploads/2020/01/Festiu.jpg
END:VEVENT
BEGIN:VEVENT
DTSTART;VALUE=DATE:20251101
DTEND;VALUE=DATE:20251102
DTSTAMP:20260424T093809
CREATED:20250929T113146Z
LAST-MODIFIED:20250930T085908Z
UID:16325-1761955200-1762041599@www.conservatoribdn.cat
SUMMARY:Dissabte festiu
DESCRIPTION:
URL:https://www.conservatoribdn.cat/t-ho-perdras/dissabtes-festius/
LOCATION:Barcelona
ATTACH;FMTTYPE=image/jpeg:https://www.conservatoribdn.cat/wp-content/uploads/2018/02/red-piano-cover1.jpg
END:VEVENT
BEGIN:VEVENT
DTSTART;VALUE=DATE:20250915
DTEND;VALUE=DATE:20250916
DTSTAMP:20260424T093809
CREATED:20250721T112742Z
LAST-MODIFIED:20250722T081842Z
UID:5456-1757894400-1757980799@www.conservatoribdn.cat
SUMMARY:Inici del curs 2025-2026
DESCRIPTION:Benvinguts!
URL:https://www.conservatoribdn.cat/t-ho-perdras/inici-del-curs-2018-2019-2/
LOCATION:Conservatori de Badalona\, Carrer del Pare Claret\, 2\, Badalona\, Barcelona\, 08911
ATTACH;FMTTYPE=image/jpeg:https://www.conservatoribdn.cat/wp-content/uploads/2018/09/o-MAN-OPENING-DOOR-facebook1-e1536319631165.jpg
END:VEVENT
BEGIN:VEVENT
DTSTART;VALUE=DATE:20250902
DTEND;VALUE=DATE:20250903
DTSTAMP:20260424T093809
CREATED:20250720T115041Z
LAST-MODIFIED:20250722T080742Z
UID:4187-1756771200-1756857599@www.conservatoribdn.cat
SUMMARY:Proves d'accés a Grau Professional
DESCRIPTION:
URL:https://www.conservatoribdn.cat/t-ho-perdras/proves-dacces-a-grau-professional/
LOCATION:Conservatori de Badalona
ATTACH;FMTTYPE=image/png:https://www.conservatoribdn.cat/wp-content/uploads/2022/11/Logo_conserv._curt__2_-removebg-preview.png
END:VEVENT
BEGIN:VEVENT
DTSTART;TZID=Europe/Paris:20250612T190000
DTEND;TZID=Europe/Paris:20250612T210000
DTSTAMP:20260424T093809
CREATED:20250428T101347Z
LAST-MODIFIED:20250611T114152Z
UID:18257-1749754800-1749762000@www.conservatoribdn.cat
SUMMARY:DON PASQUALE al Teatre Zorrilla!
DESCRIPTION:Don Pasquale\nGaetano Donizetti (1797-1848)\nCompanyia d’òpera Sull’aria del Conservatori de Badalona \nSolistes:\nPablo Haasnoot\, Don Pasquale\nGabriel Tamayo\, Dottore Malatesta\nAlexandra Surrà\, Norina\nEstela Fructuoso\, Ernesto\nIker Fructuoso\, Notaio \nRocío Martínez\, directora\nMarc Serra\, piano \nAquest final de curs torna la Companyia Sull’aria del Conservatori de Badalona amb la reposició de DON PAQUALE. Cada any estrena una òpera completa que es treballa durant el curs acadèmic. És una iniciativa creada per la professora de cant Rocío Martínez per donar l’oportunitat d’apropar-se al món de l’òpera professional als nostres alumnes.\nNo us la podeu perdre!!!! \na les 19:00h al Teatre Zorrilla \nPROGRAMA \nENTRADA LLIURE
URL:https://www.conservatoribdn.cat/t-ho-perdras/don-pasquale/
LOCATION:Teatre Zorrilla\, Carrer Canonge Baranera 17\, Badalona\, Barcelona\, 08911
CATEGORIES:Esdeveniments destacats,Extern
ATTACH;FMTTYPE=image/jpeg:https://www.conservatoribdn.cat/wp-content/uploads/2024/10/foto-opera-7-nov-e1746437075122.jpeg
END:VEVENT
BEGIN:VEVENT
DTSTART;VALUE=DATE:20250610
DTEND;VALUE=DATE:20250614
DTSTAMP:20260424T093809
CREATED:20240829T221420Z
LAST-MODIFIED:20240829T221420Z
UID:17630-1749513600-1749859199@www.conservatoribdn.cat
SUMMARY:Setmana d'assajos i concerts
DESCRIPTION:
URL:https://www.conservatoribdn.cat/t-ho-perdras/setmana-dassajos-i-concerts/
LOCATION:Conservatori de Badalona
END:VEVENT
BEGIN:VEVENT
DTSTART;VALUE=DATE:20250609
DTEND;VALUE=DATE:20250610
DTSTAMP:20260424T093809
CREATED:20240823T082509Z
LAST-MODIFIED:20240829T220959Z
UID:13164-1749427200-1749513599@www.conservatoribdn.cat
SUMMARY:Segona Pàsqua
DESCRIPTION:
URL:https://www.conservatoribdn.cat/t-ho-perdras/segona-pasqua-2/
LOCATION:Conservatori de Badalona
ATTACH;FMTTYPE=image/jpeg:https://www.conservatoribdn.cat/wp-content/uploads/2020/01/Festiu.jpg
END:VEVENT
BEGIN:VEVENT
DTSTART;TZID=Europe/Paris:20250518T180000
DTEND;TZID=Europe/Paris:20250518T193000
DTSTAMP:20260424T093809
CREATED:20250407T110056Z
LAST-MODIFIED:20250522T093802Z
UID:18218-1747591200-1747596600@www.conservatoribdn.cat
SUMMARY:Orquestra de Cambra al Teatre Zorrilla
DESCRIPTION:Orquestra de Cambra del Conservatori de Badalona\nJoan Antoni Pich\, director \nMarc Parés\, piano \nVÍDEO \nL’orquestra de cambra del Conservatori de Badalona ens acosta enguany a les obres de tres grans compositors del segle XVIII: Haydn\, Telemann i Mozart. Tres obres amb formats i estils ben diferents\, però unides per un mateix caràcter joiós que ens arribarà amb tota la frescor i energia de la interpretació de la jove orquestra.\nEntre les peces que escoltarem\, destaca el Concert per a piano i orquestra núm. 21 en do major de Mozart\, una de les seves obres més conegudes. El seu segon moviment conté el que Messiaen va definir com “un dels més bells fragments de la història de la música”.\nPer a aquest concert comptarem com a solista amb Marc Parés\, alumne del Conservatori i guanyador del Premi d’Honor del curs 2023-2024. \nPROGRAMA: \nObertura en re major\, Hob.Ia:7 de F. J. Haydn\nSuite en sol major\, 55:G2 de G.Ph. Telemann\, La Bizarre\nConcert per a piano i orquestra en do major\, KV 467 de W. A. Mozart
URL:https://www.conservatoribdn.cat/t-ho-perdras/orquestra-de-cambra-al-teatre-zorrilla/
LOCATION:Teatre Zorrilla\, Carrer Canonge Baranera 17\, Badalona\, Barcelona\, 08911
CATEGORIES:Esdeveniments destacats,Extern
ATTACH;FMTTYPE=image/jpeg:https://www.conservatoribdn.cat/wp-content/uploads/2024/05/orquestra-i-cor-2024-05-18-foto-1.jpeg
END:VEVENT
BEGIN:VEVENT
DTSTART;TZID=UTC:20250515T200000
DTEND;TZID=UTC:20250515T210000
DTSTAMP:20260424T093809
CREATED:20250409T110851Z
LAST-MODIFIED:20250509T154413Z
UID:14316-1747339200-1747342800@www.conservatoribdn.cat
SUMMARY:JA ÉS DIJOUS! PREMI D'HONOR Mauro Castillo
DESCRIPTION:CONCERT PREMI D’HONOR 2025\nMauro Castillo\, contrabaix \nAlbert Giménez\, piano \nEnhorabona a l’alumne de contrabaix Mauro Castillo per haver guanyat el Premi d’Honor del Curs Acadèmic 24-25 del Conservatori de Badalona. Aquest dijous el podreu escoltar en directe al cicle Ja és Dijous! \nENTRADA LLIURE
URL:https://www.conservatoribdn.cat/t-ho-perdras/ja-es-dijous-concert-premi-dhonor/
LOCATION:Auditori del Conservatori de Badalona\, Carrer del Pare Claret\, 2\, Badalona\, Barcelona\, 08911
CATEGORIES:Extern,Ja és Dijous
ATTACH;FMTTYPE=image/jpeg:https://www.conservatoribdn.cat/wp-content/uploads/2025/04/WhatsApp-Image-2025-01-20-at-22.21.57.jpg
END:VEVENT
BEGIN:VEVENT
DTSTART;VALUE=DATE:20250512
DTEND;VALUE=DATE:20250513
DTSTAMP:20260424T093809
CREATED:20240823T075629Z
LAST-MODIFIED:20240829T220836Z
UID:13158-1747008000-1747094399@www.conservatoribdn.cat
SUMMARY:Festa local
DESCRIPTION:
URL:https://www.conservatoribdn.cat/t-ho-perdras/festa-local/
LOCATION:Conservatori de Badalona
ATTACH;FMTTYPE=image/jpeg:https://www.conservatoribdn.cat/wp-content/uploads/2020/01/Festiu.jpg
END:VEVENT
BEGIN:VEVENT
DTSTART;TZID=Europe/Paris:20250508T200000
DTEND;TZID=Europe/Paris:20250508T210000
DTSTAMP:20260424T093809
CREATED:20250409T115742Z
LAST-MODIFIED:20250411T203727Z
UID:16711-1746734400-1746738000@www.conservatoribdn.cat
SUMMARY:JA ÉS DIJOUS! Seda y esparto. ALBA GUERRERO
DESCRIPTION:Seda y esparto\nflamenco\nAlba Guerrero\, cantaora\nManuel Castilla\, guitarra \nTenim la sort de poder veure i escoltar una de les figures més rellevants del flamenco actual que ens presentarà el seu espectacle Seda y esparto acompanyada del també imprescindible guitarrista Manuel Castilla. \nwww.albaguerrero.com \nCol·labora: Associació Cultural LA HIEDRA de Badalona \nENTRADA LLIURE
URL:https://www.conservatoribdn.cat/t-ho-perdras/ja-es-dijous-alba-guerrero/
LOCATION:Auditori del Conservatori de Badalona\, Carrer del Pare Claret\, 2\, Badalona\, Barcelona\, 08911
CATEGORIES:Extern,Ja és Dijous
ATTACH;FMTTYPE=image/jpeg:https://www.conservatoribdn.cat/wp-content/uploads/2024/01/alba-guerrero-manzano1.jpg
END:VEVENT
BEGIN:VEVENT
DTSTART;VALUE=DATE:20250502
DTEND;VALUE=DATE:20250503
DTSTAMP:20260424T093809
CREATED:20240829T220654Z
LAST-MODIFIED:20240829T220654Z
UID:17628-1746144000-1746230399@www.conservatoribdn.cat
SUMMARY:Festa de lliure disposició
DESCRIPTION:
URL:https://www.conservatoribdn.cat/t-ho-perdras/festa-de-lliure-disposicio-14/
LOCATION:Barcelona
ATTACH;FMTTYPE=image/jpeg:https://www.conservatoribdn.cat/wp-content/uploads/2018/02/red-piano-cover1.jpg
END:VEVENT
BEGIN:VEVENT
DTSTART;TZID=Europe/Paris:20250424T200000
DTEND;TZID=Europe/Paris:20250424T210000
DTSTAMP:20260424T093809
CREATED:20250409T103911Z
LAST-MODIFIED:20250411T223500Z
UID:12081-1745524800-1745528400@www.conservatoribdn.cat
SUMMARY:JA ÉS DIJOUS! SANT JORDI POÈTIC
DESCRIPTION:SANT JORDI POÈTIC \nXavier Cuevas\, arpa Érard  \nConcert participatiu amb la lectura de poemes per part del públic assistent intercalant petits moments musicals. \nObres de J.S. Bach\, F.Godefroid\, H. Renié \, A. Hasselmans i C. Debussy. \nENTRADA LLIURE
URL:https://www.conservatoribdn.cat/t-ho-perdras/ja-es-dijous-musica-i-textos-literaris/
LOCATION:Auditori del Conservatori de Badalona\, Carrer del Pare Claret\, 2\, Badalona\, Barcelona\, 08911
CATEGORIES:Extern,Ja és Dijous
ATTACH;FMTTYPE=image/jpeg:https://www.conservatoribdn.cat/wp-content/uploads/2025/04/IMG-20240726-WA0000-1-e1744404158882.jpg
END:VEVENT
BEGIN:VEVENT
DTSTART;VALUE=DATE:20250412
DTEND;VALUE=DATE:20250422
DTSTAMP:20260424T093809
CREATED:20240823T080141Z
LAST-MODIFIED:20240829T220419Z
UID:13160-1744416000-1745279999@www.conservatoribdn.cat
SUMMARY:Vacances de Setmana Santa
DESCRIPTION:
URL:https://www.conservatoribdn.cat/t-ho-perdras/vacances-de-setmana-santa-3/
LOCATION:Conservatori de Badalona
ATTACH;FMTTYPE=image/jpeg:https://www.conservatoribdn.cat/wp-content/uploads/2020/01/Festiu.jpg
END:VEVENT
END:VCALENDAR